BEGIN:VCALENDAR
PRODID:-//eluceo/ical//2.0/EN
VERSION:2.0
CALSCALE:GREGORIAN
BEGIN:VEVENT
UID:82b689a2903d6fcb9c4e3d2c3bd05b43
DTSTAMP:20260424T041108Z
SUMMARY:Spearwood Storytime
DESCRIPTION:Description:\nCome to the library to hear great stories and to 
 join in on songs and rhymes\, before you make a masterpiece of craft to ta
 ke home.Storytime encourages a love of reading\, stimulates kids’ imagin
 ations and offers an opportunity for social interaction.Talk\, sing\, read
 \, write\, & play every day.Your storyteller will share fantastic picture 
 books\, stories\, songs and rhymes. Parents\, grandparents and carers are 
 all welcome. Sessions involve a craft activity and adults are essential to
  this part of the session.Sessions are weekly and last between 45 minutes 
 and an hour.
URL:https://cockburnlibraries.events.mylibrary.digital/event?id=202306
DTSTART;TZID=Australia/Perth:20260224T103000
DTEND;TZID=Australia/Perth:20260224T113000
LOCATION:Spearwood Library\, 9 Coleville Crescent\, Spearwood 6163 WA
END:VEVENT
BEGIN:VTIMEZONE
TZID:Australia/Perth
BEGIN:STANDARD
DTSTART:20200501T000000
TZNAME:AWST
TZOFFSETTO:+0800
TZOFFSETFROM:+0800
END:STANDARD
END:VTIMEZONE
END:VCALENDAR
