BEGIN:VCALENDAR
PRODID:-//eluceo/ical//2.0/EN
VERSION:2.0
CALSCALE:GREGORIAN
BEGIN:VEVENT
UID:9aae962f28a22ad5dc46c567c5df81d5
DTSTAMP:20260421T113105Z
SUMMARY:Creative Kids
DESCRIPTION:Description:\nCreative Kids is time in the library for kids to 
 get creative with LEGO\, board games\, craft\, and Science.First Wednesday
  of the month: Larger than life LEGO. Build and design in the company of o
 ther LEGO fans.Second Wednesday: Killer Crafts for creative kids. Your ima
 gination is the only limit!Third Wednesday: Larger than life LEGO. Build a
 nd design in the company of other LEGO fans.Fourth Wednesday: Brilliant bo
 ard games. Come along and test your wits against the kids of Coolbellup.ST
 EAM Wednesday: If we have an extra Wednesday in the month join us for a ST
 EAM spectacular!
URL:https://cockburnlibraries.events.mylibrary.digital/event?id=208436
DTSTART;TZID=Australia/Perth:20260603T153000
DTEND;TZID=Australia/Perth:20260603T161500
LOCATION:Coolbellup Library\, 90 Cordelia Avenue\, Coolbellup 6163 WA
END:VEVENT
BEGIN:VTIMEZONE
TZID:Australia/Perth
BEGIN:STANDARD
DTSTART:20200501T000000
TZNAME:AWST
TZOFFSETTO:+0800
TZOFFSETFROM:+0800
END:STANDARD
END:VTIMEZONE
END:VCALENDAR
