BEGIN:VCALENDAR
PRODID:-//eluceo/ical//2.0/EN
VERSION:2.0
CALSCALE:GREGORIAN
BEGIN:VEVENT
UID:aa7aff7123179507231d710db2df8c50
DTSTAMP:20260421T131119Z
SUMMARY:Spearwood Thursday Tech Help
DESCRIPTION:Description:\nBook in for an individual 30 minute Tech Help ses
 sion for basic technology help. These are informal\, introductory sessions
  aimed at increasing confidence in the use of computers and mobile technol
 ogy.\n\nRequirements:\nPlease bring along device\, items or documents you 
 might need for your appointment
URL:https://cockburnlibraries.events.mylibrary.digital/event?id=209077
DTSTART;TZID=Australia/Perth:20260305T103000
DTEND;TZID=Australia/Perth:20260305T110000
LOCATION:Spearwood Library\, 9 Coleville Crescent\, Spearwood 6163 WA
END:VEVENT
BEGIN:VTIMEZONE
TZID:Australia/Perth
BEGIN:STANDARD
DTSTART:20200501T000000
TZNAME:AWST
TZOFFSETTO:+0800
TZOFFSETFROM:+0800
END:STANDARD
END:VTIMEZONE
END:VCALENDAR
