BEGIN:VCALENDAR
PRODID:-//eluceo/ical//2.0/EN
VERSION:2.0
CALSCALE:GREGORIAN
BEGIN:VEVENT
UID:f8f2ece7e48460144a66834b59c96c3c
DTSTAMP:20260421T065922Z
SUMMARY:Coolbellup Justice of the Peace
DESCRIPTION:Description:\nJustice of the Peace\nThe JP service is available
  at:\n\nCoolbellup Library – Mondays 10am–midday\n\nTo find a Justice 
 of the Peace (JP) available at other times try:  Department of Justice –
  Find a JP
URL:https://cockburnlibraries.events.mylibrary.digital/event?id=43020
DTSTART;TZID=Australia/Perth:20240513T100000
DTEND;TZID=Australia/Perth:20240513T120000
LOCATION:Coolbellup Library\, 90 Cordelia Avenue\, Coolbellup 6163 WA
END:VEVENT
BEGIN:VTIMEZONE
TZID:Australia/Perth
BEGIN:STANDARD
DTSTART:20200501T000000
TZNAME:AWST
TZOFFSETTO:+0800
TZOFFSETFROM:+0800
END:STANDARD
END:VTIMEZONE
END:VCALENDAR
