BEGIN:VCALENDAR
PRODID:-//eluceo/ical//2.0/EN
VERSION:2.0
CALSCALE:GREGORIAN
BEGIN:VEVENT
UID:27665c83fa637b499743c024e639326e
DTSTAMP:20260423T105345Z
SUMMARY:Boardgaming Club at Success Library
DESCRIPTION:Description:\nCome along and have fun playing boardgames in the
  library at our free drop-in program for adults and teens (15+).\nEvery Sa
 turday from 1pm to 3pm.\n\nWe have some old classics as well as some brand
  new games you may not have tried yet. This is a great opportunity to meet
  up and play with others in the community – and it’s good for your bra
 in!\n\nGames are supplied or you can bring your own favourites along.
URL:https://cockburnlibraries.events.mylibrary.digital/event?id=81777
DTSTART;TZID=Australia/Perth:20240907T130000
DTEND;TZID=Australia/Perth:20240907T150000
LOCATION:Success Library\, 11 Wentworth Parade\, Success 6164 WA
END:VEVENT
BEGIN:VTIMEZONE
TZID:Australia/Perth
BEGIN:STANDARD
DTSTART:20200501T000000
TZNAME:AWST
TZOFFSETTO:+0800
TZOFFSETFROM:+0800
END:STANDARD
END:VTIMEZONE
END:VCALENDAR
